BEGIN:VCALENDAR
VERSION:2.0
PRODID:-//Tukios.com/
BEGIN:VEVENT
UID:653d6dfb-5685-483d-820e-b99bd6099927@www.mothefunerals.com
DTSTAMP:20260424T211805Z
DTSTART:20260501T173000Z
DTEND:20260501T183000Z
SUMMARY:Burial
DESCRIPTION:
URL:https://www.mothefunerals.com/obituaries/sandra-chauvin
LOCATION: 8968 LA-23  Belle Chasse LA 70037
GEO:29.8418875;-89.9990828
END:VEVENT
END:VCALENDAR