BEGIN:VCALENDAR
VERSION:2.0
PRODID:-//Tukios.com/
BEGIN:VEVENT
UID:846828bb-98b8-4f73-9e2b-0029947f7490@www.mothefunerals.com
DTSTAMP:20260424T211623Z
DTSTART:20260501T160000Z
DTEND:20260501T170000Z
SUMMARY:Funeral Service
DESCRIPTION:
URL:https://www.mothefunerals.com/obituaries/sandra-chauvin
LOCATION:Mothe Funeral Home 2100 Westbank Expressway  Harvey LA 70058
GEO:29.9002532;-90.0704454
END:VEVENT
END:VCALENDAR