BEGIN:VCALENDAR
VERSION:2.0
PRODID:-//Tukios.com/
BEGIN:VEVENT
UID:4f9c5790-e108-4d10-915d-ec856891711e@www.mothefunerals.com
DTSTAMP:20260424T212118Z
DTSTART:20260501T140000Z
DTEND:20260501T160000Z
SUMMARY:Visitation
DESCRIPTION:
URL:https://www.mothefunerals.com/obituaries/sandra-chauvin
LOCATION:Mothe Funeral Home 2100 Westbank Expressway  Harvey LA 70058
GEO:29.9002532;-90.0704454
END:VEVENT
END:VCALENDAR