BEGIN:VCALENDAR
VERSION:2.0
PRODID:-//Tukios.com/
BEGIN:VEVENT
UID:b17c8db3-db5a-4baa-abec-2ec77fc60264@www.mothefunerals.com
DTSTAMP:20260420T234248Z
DTSTART:20260424
SUMMARY:Burial
DESCRIPTION:
URL:https://www.mothefunerals.com/obituaries/merline-whatley
LOCATION: 3540 US-90  Avondale LA 70094
GEO:29.9114652;-90.2128235
END:VEVENT
END:VCALENDAR