BEGIN:VCALENDAR
VERSION:2.0
PRODID:-//Tukios.com/
BEGIN:VEVENT
UID:e7fb0f28-69a4-479f-8e3d-5c967aa5c135@www.mothefunerals.com
DTSTAMP:20260420T234520Z
DTSTART:20260424T160000Z
DTEND:20260424T170000Z
SUMMARY:Mass
DESCRIPTION:
URL:https://www.mothefunerals.com/obituaries/merline-whatley
LOCATION: 2100 Westbank Expy  Harvey LA 70058
GEO:29.9002148;-90.0705186
END:VEVENT
END:VCALENDAR