BEGIN:VCALENDAR
VERSION:2.0
PRODID:-//Tukios.com/
BEGIN:VEVENT
UID:9f77c0c2-5ea0-42d9-9e90-b0e6a22aa349@www.mothefunerals.com
DTSTAMP:20260420T234512Z
DTSTART:20260424T140000Z
DTEND:20260424T160000Z
SUMMARY:Visitation
DESCRIPTION:
URL:https://www.mothefunerals.com/obituaries/merline-whatley
LOCATION: 2100 Westbank Expy  Harvey LA 70058
GEO:29.9002148;-90.0705186
END:VEVENT
END:VCALENDAR