BEGIN:VCALENDAR
VERSION:2.0
PRODID:-//Tukios.com/
BEGIN:VEVENT
UID:1ddacf5d-1acb-4154-9db1-e8ff240fe05f@www.mothefunerals.com
DTSTAMP:20260423T204402Z
DTSTART:20260429
SUMMARY:Burial
DESCRIPTION:
URL:https://www.mothefunerals.com/obituaries/maria-lopez
LOCATION: 1225 Whitney Ave.  Terrytown LA 70056
GEO:29.9030263;-90.0409666
END:VEVENT
END:VCALENDAR