BEGIN:VCALENDAR
VERSION:2.0
PRODID:-//Tukios.com/
BEGIN:VEVENT
UID:48fc72b5-0a27-443b-a1cf-66953dc5ceae@www.mothefunerals.com
DTSTAMP:20260423T204601Z
DTSTART:20260429T180000Z
DTEND:20260429T190000Z
SUMMARY:Funeral Service
DESCRIPTION:
URL:https://www.mothefunerals.com/obituaries/maria-lopez
LOCATION: 2100 Westbank Expy  Harvey LA 70058
GEO:29.9002148;-90.0705186
END:VEVENT
END:VCALENDAR