BEGIN:VCALENDAR
VERSION:2.0
PRODID:-//Tukios.com/
BEGIN:VEVENT
UID:dd93cf5b-6361-4187-abb9-3dc9f923bc76@www.mothefunerals.com
DTSTAMP:20260423T204320Z
DTSTART:20260429T160000Z
DTEND:20260429T180000Z
SUMMARY:Visitation
DESCRIPTION:
URL:https://www.mothefunerals.com/obituaries/maria-lopez
LOCATION: 2100 Westbank Expy  Harvey LA 70058
GEO:29.9002148;-90.0705186
END:VEVENT
END:VCALENDAR