BEGIN:VCALENDAR
VERSION:2.0
PRODID:-//Tukios.com/
BEGIN:VEVENT
UID:a7e3e933-09b0-4277-bc8b-7f6074439670@www.mothefunerals.com
DTSTAMP:20260421T224543Z
DTSTART:20260424T150000Z
DTEND:20260424T160000Z
SUMMARY:Mass
DESCRIPTION:
URL:https://www.mothefunerals.com/obituaries/joanna-garrett
LOCATION: 7040 Lapalco Blvd  Marrero LA 70072
GEO:29.8841295;-90.1261458
END:VEVENT
END:VCALENDAR