BEGIN:VCALENDAR
VERSION:2.0
PRODID:-//Tukios.com/
BEGIN:VEVENT
UID:72c32b23-e2a0-4b78-9f2a-9dd883a08a78@www.mothefunerals.com
DTSTAMP:20260421T224324Z
DTSTART:20260424T133000Z
DTEND:20260424T150000Z
SUMMARY:Visitation
DESCRIPTION:
URL:https://www.mothefunerals.com/obituaries/joanna-garrett
LOCATION: 7040 Lapalco Blvd  Marrero LA 70072
GEO:29.8841295;-90.1261458
END:VEVENT
END:VCALENDAR